BEGIN:VCALENDAR
VERSION:2.0
CALSCALE:GREGORIAN
PRODID:-//Diputació de Barcelona//DibaCMS//EN
BEGIN:VEVENT
UID:6562
DTSTAMP:20260423T003451
DTSTART:20201223T120000
DTEND:20201223T130000
SUMMARY:A les dotze, menja't un conte!
LOCATION:Plaça Països Catalans, 4 08410 Vilanova del Vallès
METHOD:PUBLISH
X-WR-CALNAME:ajuntament@vilanovadelvalles.cat
X-WR-TIMEZONE:Europe/Madrid
DESCRIPTION:En directe a Instagram @bibliotequesvo

URI:https://www.vilanovadelvalles.cat/actualitat/agenda/a-les-dotze-menjat-un-conte.html
CLASS:PUBLIC
END:VEVENT
END:VCALENDAR
