BEGIN:VCALENDAR
VERSION:2.0
CALSCALE:GREGORIAN
PRODID:-//Diputació de Barcelona//DibaCMS//EN
BEGIN:VEVENT
UID:6394
DTSTAMP:20260423T094253
DTSTART:20201007T093000
DTEND:20201007T150000
SUMMARY:Curs de carretons elevadors 
LOCATION:c. Maria Aurèlia Capmany núm.13 08410 Vilanova del Vallès
METHOD:PUBLISH
X-WR-CALNAME:ajuntament@vilanovadelvalles.cat
X-WR-TIMEZONE:Europe/Madrid
DESCRIPTION:Inscripcions del 15 al 30 de setembre: borsatreball@vilanovadelvalles.cat

URI:https://www.vilanovadelvalles.cat/actualitat/agenda/6394-curs-de-carretons-elevadors-.html
CLASS:PUBLIC
END:VEVENT
END:VCALENDAR
