BEGIN:VCALENDAR
VERSION:2.0
CALSCALE:GREGORIAN
PRODID:-//Diputació de Barcelona//DibaCMS//EN
BEGIN:VEVENT
UID:6133
DTSTAMP:20260424T112112
DTSTART:20200311T180000
DTEND:20200311T190000
SUMMARY:Grup de conversa en francès
LOCATION:Plaça Països Catalans, 4 08410 Vilanova del Vallès
METHOD:PUBLISH
X-WR-CALNAME:ajuntament@vilanovadelvalles.cat
X-WR-TIMEZONE:Europe/Madrid
DESCRIPTION:Dinamitzadora: Michelle Galtié. 
Cal inscripció prrèvia. 

URI:https://www.vilanovadelvalles.cat/actualitat/agenda/6133-grup-de-conversa-en-frances.html
CLASS:PUBLIC
END:VEVENT
END:VCALENDAR
