BEGIN:VCALENDAR
VERSION:2.0
CALSCALE:GREGORIAN
PRODID:-//Diputació de Barcelona//DibaCMS//EN
BEGIN:VEVENT
UID:6091
DTSTAMP:20260425T145021
DTSTART:20200226T190000
DTEND:20200226T203000
SUMMARY:Voluntaris per la llengua
LOCATION:Plaça Països Catalans, 4 08410 Vilanova del Vallès
METHOD:PUBLISH
X-WR-CALNAME:ajuntament@vilanovadelvalles.cat
X-WR-TIMEZONE:Europe/Madrid
DESCRIPTION:Dinamitzador: Salvador Comas. 
Cal inscripció prèvia. 

URI:https://www.vilanovadelvalles.cat/actualitat/agenda/6091-voluntaris-per-la-llengua.html
CLASS:PUBLIC
END:VEVENT
END:VCALENDAR
