BEGIN:VCALENDAR
VERSION:2.0
CALSCALE:GREGORIAN
PRODID:-//Diputació de Barcelona//DibaCMS//EN
BEGIN:VEVENT
UID:5978
DTSTAMP:20260425T185525
DTSTART:20191203T180000
DTEND:20191203T193000
SUMMARY:Bibliolab. Taller d'enginyeria química. El procés biotecnològic de la fermentació'
LOCATION:Plaça Països Catalans, 4 08410 Vilanova del Vallès
METHOD:PUBLISH
X-WR-CALNAME:ajuntament@vilanovadelvalles.cat
X-WR-TIMEZONE:Europe/Madrid
DESCRIPTION:A càrrec d'UPC. Barcelonatech. 
De 12 a 18 anys. Cal inscripció. 

URI:https://www.vilanovadelvalles.cat/actualitat/agenda/bibliolab-taller-denginyeria-quimica-el-proces-biotecnologic-de-la-fermentacio.html
CLASS:PUBLIC
END:VEVENT
END:VCALENDAR
