BEGIN:VCALENDAR
VERSION:2.0
CALSCALE:GREGORIAN
PRODID:-//Diputació de Barcelona//DibaCMS//EN
BEGIN:VEVENT
UID:5842
DTSTAMP:20260423T013721
DTSTART:20191003T160000
DTEND:20191003T173000
SUMMARY:Taller - Alimenta el teu benestar
LOCATION:Sis de desembre, 28  08410 Vilanova del Vallès
METHOD:PUBLISH
X-WR-CALNAME:ajuntament@vilanovadelvalles.cat
X-WR-TIMEZONE:Europe/Madrid
DESCRIPTION:
URI:https://www.vilanovadelvalles.cat/actualitat/agenda/taller-alimenta-el-teu-benestar.html
CLASS:PUBLIC
END:VEVENT
END:VCALENDAR
