BEGIN:VCALENDAR
VERSION:2.0
CALSCALE:GREGORIAN
PRODID:-//Diputació de Barcelona//DibaCMS//EN
BEGIN:VEVENT
UID:5788
DTSTAMP:20260424T193327
DTSTART:20190726T200000
DTEND:20190726T200000
SUMMARY:Inscripcions campionats socials FM2019 (Parxís, muralles, rummikub i dòmino)
LOCATION:Sis de desembre, 28  08410 Vilanova del Vallès
METHOD:PUBLISH
X-WR-CALNAME:ajuntament@vilanovadelvalles.cat
X-WR-TIMEZONE:Europe/Madrid
DESCRIPTION:INSCRIPCIONS JA !!, fins el 26 de juliol al Casal d'avis Angel de la Guarda de Vilanova del Vallès

URI:https://www.vilanovadelvalles.cat/actualitat/agenda/inscripcions-campionats-socials-fm2019-parxis-muralles-rummikub-i-domino.html
CLASS:PUBLIC
END:VEVENT
END:VCALENDAR
