BEGIN:VCALENDAR
VERSION:2.0
CALSCALE:GREGORIAN
PRODID:-//Diputació de Barcelona//DibaCMS//EN
BEGIN:VEVENT
UID:5734
DTSTAMP:20260424T013424
DTSTART:20190601T170000
DTEND:20190601T200000
SUMMARY:Trobada gegantera (25è aniversari de l'Esteve i Quitèria)
LOCATION:
METHOD:PUBLISH
X-WR-CALNAME:ajuntament@vilanovadelvalles.cat
X-WR-TIMEZONE:Europe/Madrid
DESCRIPTION:
URI:https://www.vilanovadelvalles.cat/actualitat/agenda/trobada-gegantera-25e-aniversari-de-lesteve-i-quiteria.html
CLASS:PUBLIC
END:VEVENT
END:VCALENDAR
