BEGIN:VCALENDAR
VERSION:2.0
CALSCALE:GREGORIAN
PRODID:-//Diputació de Barcelona//DibaCMS//EN
BEGIN:VEVENT
UID:5712
DTSTAMP:20260425T011725
DTSTART:20190531T200000
DTEND:20190531T200000
SUMMARY:Supernit a les biblioteques
LOCATION:Plaça Països Catalans, 4 08410 Vilanova del Vallès
METHOD:PUBLISH
X-WR-CALNAME:ajuntament@vilanovadelvalles.cat
X-WR-TIMEZONE:Europe/Madrid
DESCRIPTION:Super, vine el divendres 31 de maig a les 20h a aquesta biblioteca a ajudar la Nenúfar i la Matoll del Super3

URI:https://www.vilanovadelvalles.cat/actualitat/agenda/supernit-a-les-biblioteques.html
CLASS:PUBLIC
END:VEVENT
END:VCALENDAR
