BEGIN:VCALENDAR
VERSION:2.0
CALSCALE:GREGORIAN
PRODID:-//Diputació de Barcelona//DibaCMS//EN
BEGIN:VEVENT
UID:5694
DTSTAMP:20260423T011250
DTSTART:20190529T170000
DTEND:20190529T170000
SUMMARY:Taller de compostatge
LOCATION:Plaça Països Catalans, 4 08410 Vilanova del Vallès
METHOD:PUBLISH
X-WR-CALNAME:ajuntament@vilanovadelvalles.cat
X-WR-TIMEZONE:Europe/Madrid
DESCRIPTION:Organitza: Departament de Medi Ambient

URI:https://www.vilanovadelvalles.cat/actualitat/agenda/taller-de-compostatge.html
CLASS:PUBLIC
END:VEVENT
END:VCALENDAR
