BEGIN:VCALENDAR
VERSION:2.0
CALSCALE:GREGORIAN
PRODID:-//Diputació de Barcelona//DibaCMS//EN
BEGIN:VEVENT
UID:5615
DTSTAMP:20260421T212122
DTSTART:20190403T170000
DTEND:20190403T200000
SUMMARY:Formació: joves agents de salut
LOCATION:Hotel d'entitats de Montornès del Vallès 
METHOD:PUBLISH
X-WR-CALNAME:ajuntament@vilanovadelvalles.cat
X-WR-TIMEZONE:Europe/Madrid
DESCRIPTION:11 sessions de 3h. dimecres, dijous i divendres de 17 a 20h. Durada 32h + 10 hores pràctiques

Inscripcions: Fins el divendrs 29 de març a critic@eines.coop o al 605 781 464

Dies de formació: 3, 4, 5, 10, 11, 12, 24, 25 i 26 d'abril, 2 i 3 de maig de 2019

URI:https://www.vilanovadelvalles.cat/actualitat/agenda/formacio-joves-agents-de-salut.html
CLASS:PUBLIC
END:VEVENT
END:VCALENDAR
