BEGIN:VCALENDAR
VERSION:2.0
CALSCALE:GREGORIAN
PRODID:-//Diputació de Barcelona//DibaCMS//EN
BEGIN:VEVENT
UID:4832
DTSTAMP:20260424T021036
DTSTART:20190601T090000
DTEND:20190601T150000
SUMMARY:VI Embukai Aikido
LOCATION:Maria Aurèlia Campany, 2-4 08410 Vilanova del Vallès
METHOD:PUBLISH
X-WR-CALNAME:ajuntament@vilanovadelvalles.cat
X-WR-TIMEZONE:Europe/Madrid
DESCRIPTION:Conjunt de demostracions obertes i gratuïtes d'aikido i arts vinculades amb la cultura japonesa

URI:https://www.vilanovadelvalles.cat/actualitat/agenda/vi-embukai-aikido.html
CLASS:PUBLIC
END:VEVENT
END:VCALENDAR
