BEGIN:VCALENDAR
VERSION:2.0
CALSCALE:GREGORIAN
PRODID:-//Diputació de Barcelona//DibaCMS//EN
BEGIN:VEVENT
UID:4654
DTSTAMP:20260422T025211
DTSTART:20171018T000000
DTEND:20171018T000000
SUMMARY:Celebració del 70è aniversari de la Coral La Violeta (dissabte 28 d'octubre a les 19h)
LOCATION:Passeig del Centenari, s/n  08410 Vilanova del Vallès
METHOD:PUBLISH
X-WR-CALNAME:ajuntament@vilanovadelvalles.cat
X-WR-TIMEZONE:Europe/Madrid
DESCRIPTION:El dissabte 28 d'octubre de 2017 a les 19h al Centre Cultural se celebra el 70è ANIVERSARI DE LA CORAL LA VIOLETA amb un CONCERT dirigit per Josep Pieres i amb la col·laboració de: Pànic Teatre, la Coral Infantil de l'Escola Mestres Munguet-Cortés, l'Escola de Dansa Àngels Vives, Salsanova i Esbart Dansaire Rosa Dels Vents.

URI:https://www.vilanovadelvalles.cat/actualitat/agenda/celebracio-del-70e-aniversari-de-la-coral-la-violeta-dissabte-28-doctubre-a-les-19h.html
CLASS:PUBLIC
END:VEVENT
END:VCALENDAR
