BEGIN:VCALENDAR
VERSION:2.0
CALSCALE:GREGORIAN
PRODID:-//Diputació de Barcelona//DibaCMS//EN
BEGIN:VEVENT
UID:4636
DTSTAMP:20260422T025300
DTSTART:20171006T193000
DTEND:20171023T220000
SUMMARY:Exposició treballs del taller de patchwork (6-31 octubre 2017)
LOCATION:Passeig del Centenari, s/n  08410 Vilanova del Vallès
METHOD:PUBLISH
X-WR-CALNAME:ajuntament@vilanovadelvalles.cat
X-WR-TIMEZONE:Europe/Madrid
DESCRIPTION:
URI:https://www.vilanovadelvalles.cat/actualitat/agenda/exposicio-treballs-del-taller-de-patchwork-6-31-octubre-2017.html
CLASS:PUBLIC
END:VEVENT
END:VCALENDAR
