BEGIN:VCALENDAR
VERSION:2.0
CALSCALE:GREGORIAN
PRODID:-//Diputació de Barcelona//DibaCMS//EN
BEGIN:VEVENT
UID:4594
DTSTAMP:20260422T024047
DTSTART:20171010T170000
DTEND:20171010T180000
SUMMARY:Contacontes
LOCATION:Passeig del Centenari, s/n  08410 Vilanova del Vallès
METHOD:PUBLISH
X-WR-CALNAME:ajuntament@vilanovadelvalles.cat
X-WR-TIMEZONE:Europe/Madrid
DESCRIPTION:Contes de tardor


	Octubre: dies 10, 17 i 24
	Novembre: dies 14, 21 i 28
	Desembre: 12 i 19


URI:https://www.vilanovadelvalles.cat/actualitat/agenda/contacontes.html
CLASS:PUBLIC
END:VEVENT
END:VCALENDAR
