BEGIN:VCALENDAR
VERSION:2.0
CALSCALE:GREGORIAN
PRODID:-//Diputació de Barcelona//DibaCMS//EN
BEGIN:VEVENT
UID:4592
DTSTAMP:20260422T024930
DTSTART:20171006T193000
DTEND:20171006T200000
SUMMARY:Inauguració exposició "Treballs taller de patchwork"
LOCATION:Passeig del Centenari, s/n  08410 Vilanova del Vallès
METHOD:PUBLISH
X-WR-CALNAME:ajuntament@vilanovadelvalles.cat
X-WR-TIMEZONE:Europe/Madrid
DESCRIPTION:Del 6 al 31 d'octubre.

Inauguració el divendres 6 d'octubre a 2/4 de 8 de la tarda.

URI:https://www.vilanovadelvalles.cat/actualitat/agenda/inauguracio-exposicio-treballs-taller-de-patchwork.html
CLASS:PUBLIC
END:VEVENT
END:VCALENDAR
