BEGIN:VCALENDAR
VERSION:2.0
CALSCALE:GREGORIAN
PRODID:-//Diputació de Barcelona//DibaCMS//EN
BEGIN:VEVENT
UID:4547
DTSTAMP:20260420T094600
DTSTART:20170911T100000
DTEND:20170911T120000
SUMMARY:Onze de Setembre
LOCATION:Plaça del Països Catalans de Vilanova del Vallès 
METHOD:PUBLISH
X-WR-CALNAME:ajuntament@vilanovadelvalles.cat
X-WR-TIMEZONE:Europe/Madrid
DESCRIPTION:
URI:https://www.vilanovadelvalles.cat/actualitat/agenda/onze-de-setembre.html
CLASS:PUBLIC
END:VEVENT
END:VCALENDAR
